BEGIN:VCALENDAR
VERSION:2.0
PRODID:-//FME MoZEES - ECPv4.6.13//NONSGML v1.0//EN
CALSCALE:GREGORIAN
METHOD:PUBLISH
X-WR-CALNAME:FME MoZEES
X-ORIGINAL-URL:https://mozees.no
X-WR-CALDESC:Events for FME MoZEES
BEGIN:VEVENT
DTSTART;TZID=Europe/Oslo:20180911T080000
DTEND;TZID=Europe/Oslo:20180912T170000
DTSTAMP:20260421T062934
CREATED:20180827T184245Z
LAST-MODIFIED:20180827T184245Z
UID:1287-1536652800-1536771600@mozees.no
SUMMARY:Smartgridkonferansen 2018
DESCRIPTION:MoZEES v/senterleder Øystein Ulleberg innleder sesjonen om nullutslippstransport med foredraget “På vei mot et helelektrisk transportsystem – hva er utviklingstrekkene?” \n
URL:https://mozees.no/event/smartgridkonferansen-2018/
LOCATION:Brattørkaia 1\, Trondheim\, 7010
GEO:63.4399737;10.4018577
X-APPLE-STRUCTURED-LOCATION;VALUE=URI;X-ADDRESS=Brattørkaia 1 Trondheim 7010;X-APPLE-RADIUS=500;X-TITLE=Brattørkaia 1:geo:10.4018577,63.4399737
ATTACH;FMTTYPE=image/png:https://mozees.no/wp-content/uploads/2018/08/Smartgridkonferansen2018.png
END:VEVENT
END:VCALENDAR