BEGIN:VCALENDAR
VERSION:2.0
PRODID:-//FME MoZEES - ECPv4.6.13//NONSGML v1.0//EN
CALSCALE:GREGORIAN
METHOD:PUBLISH
X-WR-CALNAME:FME MoZEES
X-ORIGINAL-URL:https://mozees.no
X-WR-CALDESC:Events for FME MoZEES
BEGIN:VEVENT
DTSTART;TZID=Europe/Oslo:20180911T080000
DTEND;TZID=Europe/Oslo:20180911T170000
DTSTAMP:20260421T082431
CREATED:20180827T182414Z
LAST-MODIFIED:20180827T183112Z
UID:1282-1536652800-1536685200@mozees.no
SUMMARY:SCCER Mobility Annual Conference
DESCRIPTION:This conference is held at ETH Zürich 11 September. MoZEES has been invited to present our research as a part of the session “European & Swiss Mobility Research Landscape”. \n
URL:https://mozees.no/event/sccer-mobility-annual-conference/
LOCATION:Rämistrasse 101\, Zürich\, 8092\, Switzerland
GEO:47.3765359;8.5480928
X-APPLE-STRUCTURED-LOCATION;VALUE=URI;X-ADDRESS=Rämistrasse 101 Zürich 8092 Switzerland;X-APPLE-RADIUS=500;X-TITLE=Rämistrasse 101:geo:8.5480928,47.3765359
ATTACH;FMTTYPE=image/jpeg:https://mozees.no/wp-content/uploads/2018/08/Interview-SCCER-Mobility-1140x760.jpg
END:VEVENT
END:VCALENDAR