BEGIN:VCALENDAR
VERSION:2.0
PRODID:-//FME MoZEES - ECPv4.6.13//NONSGML v1.0//EN
CALSCALE:GREGORIAN
METHOD:PUBLISH
X-WR-CALNAME:FME MoZEES
X-ORIGINAL-URL:https://mozees.no
X-WR-CALDESC:Events for FME MoZEES
BEGIN:VEVENT
DTSTART;TZID=Europe/Oslo:20181005T080000
DTEND;TZID=Europe/Oslo:20181008T170000
DTSTAMP:20260421T025311
CREATED:20180827T184924Z
LAST-MODIFIED:20180828T152227Z
UID:1291-1538726400-1539018000@mozees.no
SUMMARY:KIFEE-10 symposium
DESCRIPTION:The 10th KIFEE (KYOTO INTERNATIONAL FORUM FOR ENVIRONMENT AND ENERGY) symposium will be arranged in Norway\, mainly onboard on the Norwegian Coastal Express\, and MoZEES has an invited talk. \n
URL:https://mozees.no/event/kifee-10-symposium/
ATTACH;FMTTYPE=image/jpeg:https://mozees.no/wp-content/uploads/2018/08/nordlys_foto_hurtigruten-1.jpg
END:VEVENT
END:VCALENDAR