BEGIN:VCALENDAR
VERSION:2.0
PRODID:-//FME MoZEES - ECPv4.6.13//NONSGML v1.0//EN
CALSCALE:GREGORIAN
METHOD:PUBLISH
X-WR-CALNAME:FME MoZEES
X-ORIGINAL-URL:https://mozees.no
X-WR-CALDESC:Events for FME MoZEES
BEGIN:VEVENT
DTSTART;TZID=Europe/Oslo:20180918T080000
DTEND;TZID=Europe/Oslo:20180919T170000
DTSTAMP:20260421T044108
CREATED:20180827T083304Z
LAST-MODIFIED:20180827T182027Z
UID:1276-1537257600-1537376400@mozees.no
SUMMARY:f-cell Stuttgart
DESCRIPTION:MoZEES will partake at the f-cell conference in Stuttgart 18-19 September\, both at the workshop “Insights from Norway: Hydrogen in the Maritime Sector” and as a part of the common Norwegian stand. \n
URL:https://mozees.no/event/f-cell-stuttgart/
ATTACH;FMTTYPE=image/jpeg:https://mozees.no/wp-content/uploads/2018/08/f-cell-illustrasjon-1.jpg
END:VEVENT
END:VCALENDAR